BEGIN:VCALENDAR
VERSION:2.0
PRODID:-// - ECPv6.15.20//NONSGML v1.0//EN
CALSCALE:GREGORIAN
METHOD:PUBLISH
X-ORIGINAL-URL:https://post35amvets.org
X-WR-CALDESC:Events for 
REFRESH-INTERVAL;VALUE=DURATION:PT1H
X-Robots-Tag:noindex
X-PUBLISHED-TTL:PT1H
BEGIN:VTIMEZONE
TZID:America/New_York
BEGIN:DAYLIGHT
TZOFFSETFROM:-0500
TZOFFSETTO:-0400
TZNAME:EDT
DTSTART:20230312T070000
END:DAYLIGHT
BEGIN:STANDARD
TZOFFSETFROM:-0400
TZOFFSETTO:-0500
TZNAME:EST
DTSTART:20231105T060000
END:STANDARD
BEGIN:DAYLIGHT
TZOFFSETFROM:-0500
TZOFFSETTO:-0400
TZNAME:EDT
DTSTART:20240310T070000
END:DAYLIGHT
BEGIN:STANDARD
TZOFFSETFROM:-0400
TZOFFSETTO:-0500
TZNAME:EST
DTSTART:20241103T060000
END:STANDARD
BEGIN:DAYLIGHT
TZOFFSETFROM:-0500
TZOFFSETTO:-0400
TZNAME:EDT
DTSTART:20250309T070000
END:DAYLIGHT
BEGIN:STANDARD
TZOFFSETFROM:-0400
TZOFFSETTO:-0500
TZNAME:EST
DTSTART:20251102T060000
END:STANDARD
END:VTIMEZONE
BEGIN:VEVENT
DTSTART;TZID=America/New_York:20241202T183000
DTEND;TZID=America/New_York:20241202T193000
DTSTAMP:20260423T122031
CREATED:20240715T164839Z
LAST-MODIFIED:20240715T164839Z
UID:2535-1733164200-1733167800@post35amvets.org
SUMMARY:AMVETS Meeting
DESCRIPTION:AMVETS General Membership Meeting
URL:https://post35amvets.org/event/amvets-meeting-6/
END:VEVENT
BEGIN:VEVENT
DTSTART;TZID=America/New_York:20241104T183000
DTEND;TZID=America/New_York:20241104T193000
DTSTAMP:20260423T122031
CREATED:20240715T164819Z
LAST-MODIFIED:20240715T164819Z
UID:2533-1730745000-1730748600@post35amvets.org
SUMMARY:AMVETS Meeting
DESCRIPTION:AMVETS General Membership Meeting
URL:https://post35amvets.org/event/amvets-meeting-5/
END:VEVENT
BEGIN:VEVENT
DTSTART;TZID=America/New_York:20241102T190000
DTEND;TZID=America/New_York:20241102T230000
DTSTAMP:20260423T122031
CREATED:20241030T031623Z
LAST-MODIFIED:20241030T031623Z
UID:2592-1730574000-1730588400@post35amvets.org
SUMMARY:Karaoke Night
DESCRIPTION:Sing your heart out at Post 35.
URL:https://post35amvets.org/event/karaoke-night-16/
END:VEVENT
BEGIN:VEVENT
DTSTART;TZID=America/New_York:20241014T190000
DTEND;TZID=America/New_York:20241014T200000
DTSTAMP:20260423T122031
CREATED:20240715T165011Z
LAST-MODIFIED:20240715T165011Z
UID:2541-1728932400-1728936000@post35amvets.org
SUMMARY:Ladies Auxiliary Meeting
DESCRIPTION:Monthly Meeting
URL:https://post35amvets.org/event/ladies-auxiliary-meeting-9/
END:VEVENT
BEGIN:VEVENT
DTSTART;TZID=America/New_York:20241007T183000
DTEND;TZID=America/New_York:20241007T193000
DTSTAMP:20260423T122031
CREATED:20240715T164714Z
LAST-MODIFIED:20240715T164714Z
UID:2531-1728325800-1728329400@post35amvets.org
SUMMARY:AMVETS Meeting
DESCRIPTION:AMVETS General Membership Meeting
URL:https://post35amvets.org/event/amvets-meeting-3/
END:VEVENT
BEGIN:VEVENT
DTSTART;TZID=America/New_York:20240928T100000
DTEND;TZID=America/New_York:20240928T160000
DTSTAMP:20260423T122031
CREATED:20240920T022437Z
LAST-MODIFIED:20240920T022437Z
UID:2580-1727517600-1727539200@post35amvets.org
SUMMARY:AMVET Riders Benefit Ride
DESCRIPTION:Benefit Ride for the McMillan Family \nAMVET Riders Chapter 35 is leading a benefit ride for a local single father Veteran whos home was damaged in a fire. \n100% of the proceeds will go to the McMillan Family.
URL:https://post35amvets.org/event/amvet-riders-benefit-ride/
END:VEVENT
BEGIN:VEVENT
DTSTART;VALUE=DATE:20240915
DTEND;VALUE=DATE:20240916
DTSTAMP:20260423T122031
CREATED:20240812T211005Z
LAST-MODIFIED:20240812T211005Z
UID:2569-1726358400-1726444799@post35amvets.org
SUMMARY:AMVETS Family Day
DESCRIPTION:All AMVETS\, Ladies Auxiliary\, Sons of AMVETS & Family are welcome to attend our annual BBQ at the Fireman’s Cabin. \n  \nMore info will follow.
URL:https://post35amvets.org/event/amvets-family-day/
END:VEVENT
BEGIN:VEVENT
DTSTART;TZID=America/New_York:20240909T190000
DTEND;TZID=America/New_York:20240909T200000
DTSTAMP:20260423T122031
CREATED:20240715T164941Z
LAST-MODIFIED:20240715T164941Z
UID:2539-1725908400-1725912000@post35amvets.org
SUMMARY:Ladies Auxiliary Meeting
DESCRIPTION:Monthly Meeting
URL:https://post35amvets.org/event/ladies-auxiliary-meeting-8/
END:VEVENT
BEGIN:VEVENT
DTSTART;TZID=America/New_York:20240909T183000
DTEND;TZID=America/New_York:20240909T193000
DTSTAMP:20260423T122031
CREATED:20240715T164653Z
LAST-MODIFIED:20240825T040637Z
UID:2529-1725906600-1725910200@post35amvets.org
SUMMARY:AMVETS Meeting
DESCRIPTION:AMVETS General Membership Meeting
URL:https://post35amvets.org/event/amvets-meeting-2/
END:VEVENT
BEGIN:VEVENT
DTSTART;TZID=America/New_York:20240822T190000
DTEND;TZID=America/New_York:20240822T200000
DTSTAMP:20260423T122031
CREATED:20240821T003227Z
LAST-MODIFIED:20240821T003227Z
UID:2576-1724353200-1724356800@post35amvets.org
SUMMARY:AMVETS Riders Meeting
DESCRIPTION:AMVETS Riders Meeting
URL:https://post35amvets.org/event/amvets-riders-meeting-3/
END:VEVENT
BEGIN:VEVENT
DTSTART;TZID=America/New_York:20240816T190000
DTEND;TZID=America/New_York:20240816T230000
DTSTAMP:20260423T122031
CREATED:20240812T210618Z
LAST-MODIFIED:20240812T210618Z
UID:2567-1723834800-1723849200@post35amvets.org
SUMMARY:Karaoke Night
DESCRIPTION:Sing your heart out at Post 35.
URL:https://post35amvets.org/event/karaoke-night-15/
END:VEVENT
BEGIN:VEVENT
DTSTART;TZID=America/New_York:20240813T183000
DTEND;TZID=America/New_York:20240813T193000
DTSTAMP:20260423T122031
CREATED:20240715T165115Z
LAST-MODIFIED:20240715T165115Z
UID:2545-1723573800-1723577400@post35amvets.org
SUMMARY:Sons Meeting
DESCRIPTION:Sons of AMVETS Monthly Meeting
URL:https://post35amvets.org/event/sons-meeting-7/
END:VEVENT
BEGIN:VEVENT
DTSTART;TZID=America/New_York:20240812T190000
DTEND;TZID=America/New_York:20240812T200000
DTSTAMP:20260423T122031
CREATED:20240715T164918Z
LAST-MODIFIED:20240715T164918Z
UID:2537-1723489200-1723492800@post35amvets.org
SUMMARY:Ladies Auxiliary Meeting
DESCRIPTION:Monthly Meeting
URL:https://post35amvets.org/event/ladies-auxiliary-meeting-7/
END:VEVENT
BEGIN:VEVENT
DTSTART;TZID=America/New_York:20240809T190000
DTEND;TZID=America/New_York:20240809T230000
DTSTAMP:20260423T122031
CREATED:20240806T162324Z
LAST-MODIFIED:20240806T162324Z
UID:2558-1723230000-1723244400@post35amvets.org
SUMMARY:Karaoke Night
DESCRIPTION:Sing your heart out at Post 35.
URL:https://post35amvets.org/event/karaoke-night-14/
END:VEVENT
BEGIN:VEVENT
DTSTART;TZID=America/New_York:20240805T183000
DTEND;TZID=America/New_York:20240805T193000
DTSTAMP:20260423T122031
CREATED:20240715T164736Z
LAST-MODIFIED:20240715T164736Z
UID:2527-1722882600-1722886200@post35amvets.org
SUMMARY:AMVETS Meeting
DESCRIPTION:AMVETS General Membership Meeting
URL:https://post35amvets.org/event/amvets-meeting-4/
END:VEVENT
BEGIN:VEVENT
DTSTART;TZID=America/New_York:20240802T190000
DTEND;TZID=America/New_York:20240802T230000
DTSTAMP:20260423T122031
CREATED:20240802T150754Z
LAST-MODIFIED:20240802T150754Z
UID:2549-1722625200-1722639600@post35amvets.org
SUMMARY:Karaoke Night
DESCRIPTION:Sing your heart out at Post 35.
URL:https://post35amvets.org/event/karaoke-night-13/
END:VEVENT
BEGIN:VEVENT
DTSTART;TZID=America/New_York:20240801T190000
DTEND;TZID=America/New_York:20240801T200000
DTSTAMP:20260423T122031
CREATED:20240715T165159Z
LAST-MODIFIED:20240715T165159Z
UID:2547-1722538800-1722542400@post35amvets.org
SUMMARY:AMVETS Riders Meeting
DESCRIPTION:AMVETS Riders Meeting
URL:https://post35amvets.org/event/amvets-riders-meeting-2/
END:VEVENT
BEGIN:VEVENT
DTSTART;TZID=America/New_York:20240716T183000
DTEND;TZID=America/New_York:20240716T193000
DTSTAMP:20260423T122031
CREATED:20240715T165053Z
LAST-MODIFIED:20240715T165053Z
UID:2543-1721154600-1721158200@post35amvets.org
SUMMARY:Sons Meeting
DESCRIPTION:Sons of AMVETS Monthly Meeting
URL:https://post35amvets.org/event/sons-meeting-6/
END:VEVENT
BEGIN:VEVENT
DTSTART;TZID=America/New_York:20240611T183000
DTEND;TZID=America/New_York:20240611T193000
DTSTAMP:20260423T122031
CREATED:20240518T153632Z
LAST-MODIFIED:20240518T153632Z
UID:2453-1718130600-1718134200@post35amvets.org
SUMMARY:Sons Meeting
DESCRIPTION:Sons of AMVETS Monthly Meeting
URL:https://post35amvets.org/event/sons-meeting-5/
END:VEVENT
BEGIN:VEVENT
DTSTART;TZID=America/New_York:20240610T190000
DTEND;TZID=America/New_York:20240610T200000
DTSTAMP:20260423T122031
CREATED:20240518T153706Z
LAST-MODIFIED:20240518T153706Z
UID:2493-1718046000-1718049600@post35amvets.org
SUMMARY:Ladies Auxiliary Meeting
DESCRIPTION:Monthly Meeting
URL:https://post35amvets.org/event/ladies-auxiliary-meeting-6/
END:VEVENT
BEGIN:VEVENT
DTSTART;TZID=America/New_York:20240606T190000
DTEND;TZID=America/New_York:20240606T200000
DTSTAMP:20260423T122031
CREATED:20240518T153833Z
LAST-MODIFIED:20240518T153833Z
UID:2497-1717700400-1717704000@post35amvets.org
SUMMARY:AMVETS Riders Meeting
DESCRIPTION:AMVETS Riders Meeting
URL:https://post35amvets.org/event/amvets-riders-meeting/
END:VEVENT
BEGIN:VEVENT
DTSTART;TZID=America/New_York:20240603T183000
DTEND;TZID=America/New_York:20240603T193000
DTSTAMP:20260423T122031
CREATED:20240518T153754Z
LAST-MODIFIED:20240518T153754Z
UID:2495-1717439400-1717443000@post35amvets.org
SUMMARY:AMVETS Meeting
DESCRIPTION:AMVETS General Membership Meeting
URL:https://post35amvets.org/event/amvets-meeting/
END:VEVENT
BEGIN:VEVENT
DTSTART;TZID=America/New_York:20240531T190000
DTEND;TZID=America/New_York:20240531T230000
DTSTAMP:20260423T122031
CREATED:20240529T015843Z
LAST-MODIFIED:20240529T015843Z
UID:2517-1717182000-1717196400@post35amvets.org
SUMMARY:Karaoke Night
DESCRIPTION:Sing your heart out at Post 35.
URL:https://post35amvets.org/event/karaoke-night-12/
END:VEVENT
BEGIN:VEVENT
DTSTART;TZID=America/New_York:20240524T190000
DTEND;TZID=America/New_York:20240524T230000
DTSTAMP:20260423T122031
CREATED:20240520T175757Z
LAST-MODIFIED:20240520T175757Z
UID:2506-1716577200-1716591600@post35amvets.org
SUMMARY:Karaoke Night
DESCRIPTION:Sing your heart out at Post 35.
URL:https://post35amvets.org/event/karaoke-night-11/
END:VEVENT
BEGIN:VEVENT
DTSTART;TZID=America/New_York:20240517T190000
DTEND;TZID=America/New_York:20240517T230000
DTSTAMP:20260423T122031
CREATED:20240513T212557Z
LAST-MODIFIED:20240513T212557Z
UID:2488-1715972400-1715986800@post35amvets.org
SUMMARY:Karaoke Night
DESCRIPTION:Sing your heart out at Post 35.
URL:https://post35amvets.org/event/karaoke-night-10/
END:VEVENT
BEGIN:VEVENT
DTSTART;TZID=America/New_York:20240513T190000
DTEND;TZID=America/New_York:20240513T200000
DTSTAMP:20260423T122031
CREATED:20240410T131613Z
LAST-MODIFIED:20240410T131613Z
UID:2451-1715626800-1715630400@post35amvets.org
SUMMARY:Ladies Auxiliary Meeting
DESCRIPTION:Monthly Meeting
URL:https://post35amvets.org/event/ladies-auxiliary-meeting-5/
END:VEVENT
BEGIN:VEVENT
DTSTART;TZID=America/New_York:20240511T170000
DTEND;TZID=America/New_York:20240511T200000
DTSTAMP:20260423T122031
CREATED:20240506T172012Z
LAST-MODIFIED:20240506T172012Z
UID:2476-1715446800-1715457600@post35amvets.org
SUMMARY:Installation of Officers
DESCRIPTION:5p Social Hour begins \n6p Dinner \n7p Installation begins \nThe grill will be closed for the day!
URL:https://post35amvets.org/event/installation-of-officers/
END:VEVENT
BEGIN:VEVENT
DTSTART;TZID=America/New_York:20240507T183000
DTEND;TZID=America/New_York:20240507T193000
DTSTAMP:20260423T122031
CREATED:20240314T031116Z
LAST-MODIFIED:20240410T131658Z
UID:2426-1715106600-1715110200@post35amvets.org
SUMMARY:Sons Meeting
DESCRIPTION:Sons Monthly Meeting
URL:https://post35amvets.org/event/sons-meeting-4/
END:VEVENT
BEGIN:VEVENT
DTSTART;TZID=America/New_York:20240506T183000
DTEND;TZID=America/New_York:20240506T193000
DTSTAMP:20260423T122031
CREATED:20240410T131525Z
LAST-MODIFIED:20240410T131525Z
UID:2449-1715020200-1715023800@post35amvets.org
SUMMARY:General Meeting
DESCRIPTION:AMVETS General Membership Meeting
URL:https://post35amvets.org/event/general-meeting-5/
END:VEVENT
BEGIN:VEVENT
DTSTART;TZID=America/New_York:20240503T190000
DTEND;TZID=America/New_York:20240503T230000
DTSTAMP:20260423T122031
CREATED:20240501T180250Z
LAST-MODIFIED:20240501T180250Z
UID:2469-1714762800-1714777200@post35amvets.org
SUMMARY:Karaoke Night
DESCRIPTION:Sing your heart out at Post 35.
URL:https://post35amvets.org/event/karaoke-night-9/
END:VEVENT
END:VCALENDAR