BEGIN:VCALENDAR
VERSION:2.0
PRODID:-// - ECPv6.15.20//NONSGML v1.0//EN
CALSCALE:GREGORIAN
METHOD:PUBLISH
X-ORIGINAL-URL:https://post35amvets.org
X-WR-CALDESC:Events for 
REFRESH-INTERVAL;VALUE=DURATION:PT1H
X-Robots-Tag:noindex
X-PUBLISHED-TTL:PT1H
BEGIN:VTIMEZONE
TZID:America/New_York
BEGIN:DAYLIGHT
TZOFFSETFROM:-0500
TZOFFSETTO:-0400
TZNAME:EDT
DTSTART:20220313T070000
END:DAYLIGHT
BEGIN:STANDARD
TZOFFSETFROM:-0400
TZOFFSETTO:-0500
TZNAME:EST
DTSTART:20221106T060000
END:STANDARD
BEGIN:DAYLIGHT
TZOFFSETFROM:-0500
TZOFFSETTO:-0400
TZNAME:EDT
DTSTART:20230312T070000
END:DAYLIGHT
BEGIN:STANDARD
TZOFFSETFROM:-0400
TZOFFSETTO:-0500
TZNAME:EST
DTSTART:20231105T060000
END:STANDARD
BEGIN:DAYLIGHT
TZOFFSETFROM:-0500
TZOFFSETTO:-0400
TZNAME:EDT
DTSTART:20240310T070000
END:DAYLIGHT
BEGIN:STANDARD
TZOFFSETFROM:-0400
TZOFFSETTO:-0500
TZNAME:EST
DTSTART:20241103T060000
END:STANDARD
BEGIN:DAYLIGHT
TZOFFSETFROM:-0500
TZOFFSETTO:-0400
TZNAME:EDT
DTSTART:20250309T070000
END:DAYLIGHT
BEGIN:STANDARD
TZOFFSETFROM:-0400
TZOFFSETTO:-0500
TZNAME:EST
DTSTART:20251102T060000
END:STANDARD
END:VTIMEZONE
BEGIN:VEVENT
DTSTART;TZID=America/New_York:20240502T190000
DTEND;TZID=America/New_York:20240502T200000
DTSTAMP:20260423T165907
CREATED:20240410T131739Z
LAST-MODIFIED:20240410T131739Z
UID:2454-1714676400-1714680000@post35amvets.org
SUMMARY:AMVET Riders Meeting
DESCRIPTION:AMVETS Riders Meeting
URL:https://post35amvets.org/event/amvet-riders-meeting-5/
END:VEVENT
BEGIN:VEVENT
DTSTART;TZID=America/New_York:20240408T190000
DTEND;TZID=America/New_York:20240408T200000
DTSTAMP:20260423T165907
CREATED:20240314T031041Z
LAST-MODIFIED:20240314T031041Z
UID:2424-1712602800-1712606400@post35amvets.org
SUMMARY:Ladies Auxiliary Meeting
DESCRIPTION:Monthly Meeting
URL:https://post35amvets.org/event/ladies-auxiliary-meeting-4/
END:VEVENT
BEGIN:VEVENT
DTSTART;TZID=America/New_York:20240404T190000
DTEND;TZID=America/New_York:20240404T200000
DTSTAMP:20260423T165907
CREATED:20240314T031152Z
LAST-MODIFIED:20240314T031152Z
UID:2428-1712257200-1712260800@post35amvets.org
SUMMARY:AMVET Riders Meeting
DESCRIPTION:AMVETS Riders Meeting
URL:https://post35amvets.org/event/amvet-riders-meeting-4/
END:VEVENT
BEGIN:VEVENT
DTSTART;TZID=America/New_York:20240401T183000
DTEND;TZID=America/New_York:20240401T193000
DTSTAMP:20260423T165907
CREATED:20240314T030950Z
LAST-MODIFIED:20240314T030950Z
UID:2422-1711996200-1711999800@post35amvets.org
SUMMARY:General Meeting
DESCRIPTION:AMVETS General Membership Meeting
URL:https://post35amvets.org/event/general-meeting-4/
END:VEVENT
BEGIN:VEVENT
DTSTART;TZID=America/New_York:20240329T190000
DTEND;TZID=America/New_York:20240329T230000
DTSTAMP:20260423T165907
CREATED:20240327T122806Z
LAST-MODIFIED:20240327T122806Z
UID:2441-1711738800-1711753200@post35amvets.org
SUMMARY:Karaoke Night
DESCRIPTION:Sing your heart out at Post 35.
URL:https://post35amvets.org/event/karaoke-night-8/
END:VEVENT
BEGIN:VEVENT
DTSTART;TZID=America/New_York:20240315T190000
DTEND;TZID=America/New_York:20240315T230000
DTSTAMP:20260423T165907
CREATED:20240313T152938Z
LAST-MODIFIED:20240313T152938Z
UID:2420-1710529200-1710543600@post35amvets.org
SUMMARY:Karaoke Night
DESCRIPTION:Sing your heart out at Post 35.
URL:https://post35amvets.org/event/karaoke-night-7/
END:VEVENT
BEGIN:VEVENT
DTSTART;TZID=America/New_York:20240312T183000
DTEND;TZID=America/New_York:20240312T193000
DTSTAMP:20260423T165907
CREATED:20240219T214038Z
LAST-MODIFIED:20240219T214038Z
UID:2385-1710268200-1710271800@post35amvets.org
SUMMARY:Sons Meeting
DESCRIPTION:Sons Monthly Meeting
URL:https://post35amvets.org/event/sons-meeting-3/
END:VEVENT
BEGIN:VEVENT
DTSTART;TZID=America/New_York:20240311T190000
DTEND;TZID=America/New_York:20240311T200000
DTSTAMP:20260423T165907
CREATED:20240219T214114Z
LAST-MODIFIED:20240219T214114Z
UID:2386-1710183600-1710187200@post35amvets.org
SUMMARY:Ladies Auxiliary Meeting
DESCRIPTION:Monthly Meeting
URL:https://post35amvets.org/event/ladies-auxiliary-meeting-3/
END:VEVENT
BEGIN:VEVENT
DTSTART;TZID=America/New_York:20240307T190000
DTEND;TZID=America/New_York:20240307T200000
DTSTAMP:20260423T165907
CREATED:20240219T214147Z
LAST-MODIFIED:20240219T214147Z
UID:2387-1709838000-1709841600@post35amvets.org
SUMMARY:AMVET Riders Meeting
DESCRIPTION:AMVETS Riders Meeting
URL:https://post35amvets.org/event/amvet-riders-meeting-3/
END:VEVENT
BEGIN:VEVENT
DTSTART;TZID=America/New_York:20240304T183000
DTEND;TZID=America/New_York:20240304T193000
DTSTAMP:20260423T165907
CREATED:20240219T214006Z
LAST-MODIFIED:20240219T214006Z
UID:2388-1709577000-1709580600@post35amvets.org
SUMMARY:General Meeting
DESCRIPTION:AMVETS General Membership Meeting
URL:https://post35amvets.org/event/general-meeting-3/
END:VEVENT
BEGIN:VEVENT
DTSTART;TZID=America/New_York:20240301T190000
DTEND;TZID=America/New_York:20240301T230000
DTSTAMP:20260423T165907
CREATED:20240301T180812Z
LAST-MODIFIED:20240301T180812Z
UID:2402-1709319600-1709334000@post35amvets.org
SUMMARY:Karaoke Night
DESCRIPTION:Sing your heart out at Post 35.
URL:https://post35amvets.org/event/karaoke-night-6/
END:VEVENT
BEGIN:VEVENT
DTSTART;TZID=America/New_York:20240223T190000
DTEND;TZID=America/New_York:20240223T230000
DTSTAMP:20260423T165907
CREATED:20240219T213854Z
LAST-MODIFIED:20240219T213854Z
UID:2383-1708714800-1708729200@post35amvets.org
SUMMARY:Karaoke Night
DESCRIPTION:Sing your heart out at Post 35.
URL:https://post35amvets.org/event/karaoke-night-5/
END:VEVENT
BEGIN:VEVENT
DTSTART;TZID=America/New_York:20240221T180000
DTEND;TZID=America/New_York:20240221T190000
DTSTAMP:20260423T165907
CREATED:20240219T214310Z
LAST-MODIFIED:20240219T214310Z
UID:2393-1708538400-1708542000@post35amvets.org
SUMMARY:Post Rules CMTE
DESCRIPTION:Veterans Post Rules Committee Meeting
URL:https://post35amvets.org/event/post-rules-cmte/
END:VEVENT
BEGIN:VEVENT
DTSTART;TZID=America/New_York:20240216T190000
DTEND;TZID=America/New_York:20240216T230000
DTSTAMP:20260423T165907
CREATED:20240213T001038Z
LAST-MODIFIED:20240213T001038Z
UID:2372-1708110000-1708124400@post35amvets.org
SUMMARY:Karaoke Night
DESCRIPTION:Sing your heart out at Post 35.
URL:https://post35amvets.org/event/karaoke-night-4/
END:VEVENT
BEGIN:VEVENT
DTSTART;TZID=America/New_York:20240213T183000
DTEND;TZID=America/New_York:20240213T193000
DTSTAMP:20260423T165907
CREATED:20240122T175548Z
LAST-MODIFIED:20240122T175548Z
UID:2323-1707849000-1707852600@post35amvets.org
SUMMARY:Sons Meeting
DESCRIPTION:Sons Monthly Meeting
URL:https://post35amvets.org/event/sons-meeting-2/
END:VEVENT
BEGIN:VEVENT
DTSTART;TZID=America/New_York:20240212T190000
DTEND;TZID=America/New_York:20240212T200000
DTSTAMP:20260423T165907
CREATED:20240122T175402Z
LAST-MODIFIED:20240122T175402Z
UID:2319-1707764400-1707768000@post35amvets.org
SUMMARY:Ladies Auxiliary Meeting
DESCRIPTION:Monthly Meeting
URL:https://post35amvets.org/event/ladies-auxiliary-meeting-2/
END:VEVENT
BEGIN:VEVENT
DTSTART;TZID=America/New_York:20240209T190000
DTEND;TZID=America/New_York:20240209T230000
DTSTAMP:20260423T165907
CREATED:20240206T203402Z
LAST-MODIFIED:20240206T203402Z
UID:2362-1707505200-1707519600@post35amvets.org
SUMMARY:Karaoke Night
DESCRIPTION:Sing your heart out at Post 35.
URL:https://post35amvets.org/event/karaoke-night-3/
END:VEVENT
BEGIN:VEVENT
DTSTART;TZID=America/New_York:20240205T183000
DTEND;TZID=America/New_York:20240205T193000
DTSTAMP:20260423T165907
CREATED:20240116T050631Z
LAST-MODIFIED:20240116T050631Z
UID:2243-1707157800-1707161400@post35amvets.org
SUMMARY:General Meeting
DESCRIPTION:AMVETS General Membership Meeting
URL:https://post35amvets.org/event/general-meeting-2/
END:VEVENT
BEGIN:VEVENT
DTSTART;TZID=America/New_York:20240201T190000
DTEND;TZID=America/New_York:20240201T200000
DTSTAMP:20260423T165907
CREATED:20240122T175459Z
LAST-MODIFIED:20240122T175459Z
UID:2321-1706814000-1706817600@post35amvets.org
SUMMARY:AMVET Riders Meeting
DESCRIPTION:AMVETS Riders Meeting
URL:https://post35amvets.org/event/amvet-riders-meeting-2/
END:VEVENT
BEGIN:VEVENT
DTSTART;TZID=America/New_York:20240126T190000
DTEND;TZID=America/New_York:20240126T230000
DTSTAMP:20260423T165907
CREATED:20240122T175112Z
LAST-MODIFIED:20240122T175112Z
UID:2316-1706295600-1706310000@post35amvets.org
SUMMARY:Karaoke Night
DESCRIPTION:Sing your heart out at Post 35.
URL:https://post35amvets.org/event/karaoke-night-2/
END:VEVENT
BEGIN:VEVENT
DTSTART;TZID=America/New_York:20240115T190000
DTEND;TZID=America/New_York:20240115T200000
DTSTAMP:20260423T165907
CREATED:20231217T233826Z
LAST-MODIFIED:20240103T061118Z
UID:1637-1705345200-1705348800@post35amvets.org
SUMMARY:Ladies Auxiliary Meeting
DESCRIPTION:Monthly Meeting
URL:https://post35amvets.org/event/ladies-auxiliary-meeting/
END:VEVENT
BEGIN:VEVENT
DTSTART;TZID=America/New_York:20240109T183000
DTEND;TZID=America/New_York:20240109T193000
DTSTAMP:20260423T165907
CREATED:20231218T002817Z
LAST-MODIFIED:20231218T002817Z
UID:1649-1704825000-1704828600@post35amvets.org
SUMMARY:Sons Meeting
DESCRIPTION:Sons Monthly Meeting
URL:https://post35amvets.org/event/sons-meeting/
END:VEVENT
BEGIN:VEVENT
DTSTART;TZID=America/New_York:20240108T183000
DTEND;TZID=America/New_York:20240108T193000
DTSTAMP:20260423T165907
CREATED:20231216T010827Z
LAST-MODIFIED:20231216T010827Z
UID:1593-1704738600-1704742200@post35amvets.org
SUMMARY:General Meeting
DESCRIPTION:AMVETS General Monthly Meeting
URL:https://post35amvets.org/event/general-meeting/
END:VEVENT
BEGIN:VEVENT
DTSTART;TZID=America/New_York:20240105T190000
DTEND;TZID=America/New_York:20240105T230000
DTSTAMP:20260423T165907
CREATED:20240103T061326Z
LAST-MODIFIED:20240103T061326Z
UID:2164-1704481200-1704495600@post35amvets.org
SUMMARY:Karaoke Night
DESCRIPTION:Sing your heart out at Post 35.
URL:https://post35amvets.org/event/karaoke-night/
END:VEVENT
BEGIN:VEVENT
DTSTART;TZID=America/New_York:20240104T190000
DTEND;TZID=America/New_York:20240104T200000
DTSTAMP:20260423T165907
CREATED:20231218T002942Z
LAST-MODIFIED:20231218T002942Z
UID:1651-1704394800-1704398400@post35amvets.org
SUMMARY:AMVET Riders Meeting
DESCRIPTION:AMVETS Riders Meeting
URL:https://post35amvets.org/event/amvet-riders-meeting/
END:VEVENT
BEGIN:VEVENT
DTSTART;TZID=America/New_York:20231231T120000
DTEND;TZID=America/New_York:20240101T010000
DTSTAMP:20260423T165907
CREATED:20231221T220446Z
LAST-MODIFIED:20231221T220446Z
UID:2008-1704024000-1704070800@post35amvets.org
SUMMARY:New Years Eve
DESCRIPTION:New Years Eve. Post 35 will extend hours to offer members a chance to celebrate the New Year together. \nHours: Noon – 1:00AM\nKaraoke entertainment provided.
URL:https://post35amvets.org/event/new-years-eve/
END:VEVENT
BEGIN:VEVENT
DTSTART;TZID=America/New_York:20231216T180000
DTEND;TZID=America/New_York:20231216T190000
DTSTAMP:20260423T165907
CREATED:20231214T160313Z
LAST-MODIFIED:20231214T160313Z
UID:1414-1702749600-1702753200@post35amvets.org
SUMMARY:Executive Board Meeting
DESCRIPTION:testing information
URL:https://post35amvets.org/event/executive-board-meeting/
END:VEVENT
END:VCALENDAR